BEGIN:VCALENDAR
PRODID:-//eluceo/ical//2.0/EN
VERSION:2.0
CALSCALE:GREGORIAN
BEGIN:VEVENT
UID:1194b10eea9828371ceeee046761f754
DTSTAMP:20260424T173708Z
SUMMARY:IBO 2027 | Kindersitze – Sicherheit und Komfort für jede Fahrt
DESCRIPTION:Tagesprogramm IBO 2027 - Kindersitze – Sicherheit und Komfort
  für jede Fahrt\nOrt: Halle A4 | Vortragslounge Stand A4-616\n\nMesse Fri
 edrichshafen GmbH\nNeue Messe 1 \n88046 Friedrichshafen \nGermany \n\nTele
 fon +49 7541 708-0 \nFax +49 7541 708-110 \n\nGoogle Maps Route: \nhttp://
 goo.gl/maps/wXSL8
DTSTART;TZID=Europe/Berlin:20260318T140000
DTEND;TZID=Europe/Berlin:20260318T143000
LOCATION:Halle A4 | Vortragslounge Stand A4-616
ORGANIZER;CN=Messe Friedrichshafen:mailto:info@messe-fn.de
END:VEVENT
BEGIN:VTIMEZONE
TZID:Europe/Berlin
BEGIN:STANDARD
DTSTART:20260101T000000
TZNAME:CET
TZOFFSETTO:+0100
TZOFFSETFROM:+0100
END:STANDARD
BEGIN:DAYLIGHT
DTSTART:20260329T030000
TZNAME:CEST
TZOFFSETTO:+0200
TZOFFSETFROM:+0100
END:DAYLIGHT
BEGIN:STANDARD
DTSTART:20261025T020000
TZNAME:CET
TZOFFSETTO:+0100
TZOFFSETFROM:+0200
END:STANDARD
END:VTIMEZONE
END:VCALENDAR
