BEGIN:VCALENDAR
PRODID:-//eluceo/ical//2.0/EN
VERSION:2.0
CALSCALE:GREGORIAN
BEGIN:VEVENT
UID:e35e6bf5a7485aa6b27b3fbb0807078e
DTSTAMP:20260420T110555Z
SUMMARY:IBO 2027 | Neues Heizungsgesetz und Förderungen – Was muss beach
 tet werden?
DESCRIPTION:Tagesprogramm IBO 2027 - Neues Heizungsgesetz und Förderungen 
 – Was muss beachtet werden?\nOrt: Konferenz-Zentrum West | Raum Liechten
 stein\n\nMesse Friedrichshafen GmbH\nNeue Messe 1 \n88046 Friedrichshafen 
 \nGermany \n\nTelefon +49 7541 708-0 \nFax +49 7541 708-110 \n\nGoogle Map
 s Route: \nhttp://goo.gl/maps/wXSL8
DTSTART;TZID=Europe/Berlin:20260322T103000
DTEND;TZID=Europe/Berlin:20260322T113000
LOCATION:Konferenz-Zentrum West | Raum Liechtenstein
ORGANIZER;CN=Messe Friedrichshafen:mailto:info@messe-fn.de
END:VEVENT
BEGIN:VTIMEZONE
TZID:Europe/Berlin
BEGIN:STANDARD
DTSTART:20260101T000000
TZNAME:CET
TZOFFSETTO:+0100
TZOFFSETFROM:+0100
END:STANDARD
BEGIN:DAYLIGHT
DTSTART:20260329T030000
TZNAME:CEST
TZOFFSETTO:+0200
TZOFFSETFROM:+0100
END:DAYLIGHT
BEGIN:STANDARD
DTSTART:20261025T020000
TZNAME:CET
TZOFFSETTO:+0100
TZOFFSETFROM:+0200
END:STANDARD
END:VTIMEZONE
END:VCALENDAR
