BEGIN:VCALENDAR
PRODID:-//eluceo/ical//2.0/EN
VERSION:2.0
CALSCALE:GREGORIAN
BEGIN:VEVENT
UID:6fbe54ce667370ee492e609fd192256b
DTSTAMP:20260420T082913Z
SUMMARY:IBO 2027 | adVANtours Reisegeflüster - Wild\, weit\, wunderbar - K
 anada mit dem Camper erleben - Referent/in von creativecamper510
DESCRIPTION:Tagesprogramm IBO 2027 - adVANtours Reisegeflüster - Wild\, we
 it\, wunderbar - Kanada mit dem Camper erleben - Referent/in von creativec
 amper510\nOrt: Halle A3 | Reisebühne Stand A3-404\n\nMesse Friedrichshafe
 n GmbH\nNeue Messe 1 \n88046 Friedrichshafen \nGermany \n\nTelefon +49 754
 1 708-0 \nFax +49 7541 708-110 \n\nGoogle Maps Route: \nhttp://goo.gl/maps
 /wXSL8
DTSTART;TZID=Europe/Berlin:20260322T130000
DTEND;TZID=Europe/Berlin:20260322T133000
LOCATION:Halle A3 | Reisebühne Stand A3-404
ORGANIZER;CN=Messe Friedrichshafen:mailto:info@messe-fn.de
END:VEVENT
BEGIN:VTIMEZONE
TZID:Europe/Berlin
BEGIN:STANDARD
DTSTART:20260101T000000
TZNAME:CET
TZOFFSETTO:+0100
TZOFFSETFROM:+0100
END:STANDARD
BEGIN:DAYLIGHT
DTSTART:20260329T030000
TZNAME:CEST
TZOFFSETTO:+0200
TZOFFSETFROM:+0100
END:DAYLIGHT
BEGIN:STANDARD
DTSTART:20261025T020000
TZNAME:CET
TZOFFSETTO:+0100
TZOFFSETFROM:+0200
END:STANDARD
END:VTIMEZONE
END:VCALENDAR
