BEGIN:VCALENDAR
PRODID:-//eluceo/ical//2.0/EN
VERSION:2.0
CALSCALE:GREGORIAN
BEGIN:VEVENT
UID:e8e0d8dc7e201b13378ef97f298f9a0b
DTSTAMP:20260420T110536Z
SUMMARY:IBO 2027 | adVANtours Reisegeflüster - Dänemark - Hygge auf vier 
 Rädern - Dänemark-Highlight zwischen Dünen & dänischen Köstlichkeiten
DESCRIPTION:Tagesprogramm IBO 2027 - adVANtours Reisegeflüster - Dänemark
  - Hygge auf vier Rädern - Dänemark-Highlight zwischen Dünen & dänisch
 en Köstlichkeiten\nOrt: Halle A3 | Reisebühne Stand A3-404\n\nMesse Frie
 drichshafen GmbH\nNeue Messe 1 \n88046 Friedrichshafen \nGermany \n\nTelef
 on +49 7541 708-0 \nFax +49 7541 708-110 \n\nGoogle Maps Route: \nhttp://g
 oo.gl/maps/wXSL8
DTSTART;TZID=Europe/Berlin:20260322T120000
DTEND;TZID=Europe/Berlin:20260322T123000
LOCATION:Halle A3 | Reisebühne Stand A3-404
ORGANIZER;CN=Messe Friedrichshafen:mailto:info@messe-fn.de
END:VEVENT
BEGIN:VTIMEZONE
TZID:Europe/Berlin
BEGIN:STANDARD
DTSTART:20260101T000000
TZNAME:CET
TZOFFSETTO:+0100
TZOFFSETFROM:+0100
END:STANDARD
BEGIN:DAYLIGHT
DTSTART:20260329T030000
TZNAME:CEST
TZOFFSETTO:+0200
TZOFFSETFROM:+0100
END:DAYLIGHT
BEGIN:STANDARD
DTSTART:20261025T020000
TZNAME:CET
TZOFFSETTO:+0100
TZOFFSETFROM:+0200
END:STANDARD
END:VTIMEZONE
END:VCALENDAR
