BEGIN:VCALENDAR
PRODID:-//eluceo/ical//2.0/EN
VERSION:2.0
CALSCALE:GREGORIAN
BEGIN:VEVENT
UID:0170c349835929e6ad9e2104f3392709
DTSTAMP:20260420T065926Z
SUMMARY:IBO 2027 | adVANtours Reisegeflüster - I feel sLOVEnia - erlebe da
 s grüne Herz Europas zwischen Alpen\, Weinbergen und Adria Referent/in vo
 n Travelzine
DESCRIPTION:Tagesprogramm IBO 2027 - adVANtours Reisegeflüster - I feel sL
 OVEnia - erlebe das grüne Herz Europas zwischen Alpen\, Weinbergen und Ad
 ria Referent/in von Travelzine\nOrt: Halle A3 | Reisebühne Stand A3-404\n
 \nMesse Friedrichshafen GmbH\nNeue Messe 1 \n88046 Friedrichshafen \nGerma
 ny \n\nTelefon +49 7541 708-0 \nFax +49 7541 708-110 \n\nGoogle Maps Route
 : \nhttp://goo.gl/maps/wXSL8
DTSTART;TZID=Europe/Berlin:20260321T120000
DTEND;TZID=Europe/Berlin:20260321T123000
LOCATION:Halle A3 | Reisebühne Stand A3-404
ORGANIZER;CN=Messe Friedrichshafen:mailto:info@messe-fn.de
END:VEVENT
BEGIN:VTIMEZONE
TZID:Europe/Berlin
BEGIN:STANDARD
DTSTART:20260101T000000
TZNAME:CET
TZOFFSETTO:+0100
TZOFFSETFROM:+0100
END:STANDARD
BEGIN:DAYLIGHT
DTSTART:20260329T030000
TZNAME:CEST
TZOFFSETTO:+0200
TZOFFSETFROM:+0100
END:DAYLIGHT
BEGIN:STANDARD
DTSTART:20261025T020000
TZNAME:CET
TZOFFSETTO:+0100
TZOFFSETFROM:+0200
END:STANDARD
END:VTIMEZONE
END:VCALENDAR
