BEGIN:VCALENDAR
PRODID:-//eluceo/ical//2.0/EN
VERSION:2.0
CALSCALE:GREGORIAN
BEGIN:VEVENT
UID:75cd4b1bf6133f0a934ee8f245968a70
DTSTAMP:20260420T110357Z
SUMMARY:IBO 2027 | adVANtours Reisegeflüster - Solo unterwegs. Freiheit\, 
 Zweifel und Vanlife als Frau. Referentin: Isabel\, auszeit_mit_spirit
DESCRIPTION:Tagesprogramm IBO 2027 - adVANtours Reisegeflüster - Solo unte
 rwegs. Freiheit\, Zweifel und Vanlife als Frau. Referentin: Isabel\, ausze
 it_mit_spirit\nOrt: Halle A3 | Reisebühne Stand A3-404\n\nMesse Friedrich
 shafen GmbH\nNeue Messe 1 \n88046 Friedrichshafen \nGermany \n\nTelefon +4
 9 7541 708-0 \nFax +49 7541 708-110 \n\nGoogle Maps Route: \nhttp://goo.gl
 /maps/wXSL8
DTSTART;TZID=Europe/Berlin:20260321T110000
DTEND;TZID=Europe/Berlin:20260321T113000
LOCATION:Halle A3 | Reisebühne Stand A3-404
ORGANIZER;CN=Messe Friedrichshafen:mailto:info@messe-fn.de
END:VEVENT
BEGIN:VTIMEZONE
TZID:Europe/Berlin
BEGIN:STANDARD
DTSTART:20260101T000000
TZNAME:CET
TZOFFSETTO:+0100
TZOFFSETFROM:+0100
END:STANDARD
BEGIN:DAYLIGHT
DTSTART:20260329T030000
TZNAME:CEST
TZOFFSETTO:+0200
TZOFFSETFROM:+0100
END:DAYLIGHT
BEGIN:STANDARD
DTSTART:20261025T020000
TZNAME:CET
TZOFFSETTO:+0100
TZOFFSETFROM:+0200
END:STANDARD
END:VTIMEZONE
END:VCALENDAR
