BEGIN:VCALENDAR
PRODID:-//eluceo/ical//2.0/EN
VERSION:2.0
CALSCALE:GREGORIAN
BEGIN:VEVENT
UID:d32757fa0d8239526e3da3145cfdbb16
DTSTAMP:20260420T110708Z
SUMMARY:IBO 2027 | Klinikum Friedrichshafen: Wochenbettpflege und Stillen
DESCRIPTION:Tagesprogramm IBO 2027 - Klinikum Friedrichshafen: Wochenbettpf
 lege und Stillen\nOrt: Halle A4 | Vortragslounge hello.family\n\nMesse Fri
 edrichshafen GmbH\nNeue Messe 1 \n88046 Friedrichshafen \nGermany \n\nTele
 fon +49 7541 708-0 \nFax +49 7541 708-110 \n\nGoogle Maps Route: \nhttp://
 goo.gl/maps/wXSL8
DTSTART;TZID=Europe/Berlin:20260321T150000
DTEND;TZID=Europe/Berlin:20260321T153000
LOCATION:Halle A4 | Vortragslounge hello.family
ORGANIZER;CN=Messe Friedrichshafen:mailto:info@messe-fn.de
END:VEVENT
BEGIN:VTIMEZONE
TZID:Europe/Berlin
BEGIN:STANDARD
DTSTART:20260101T000000
TZNAME:CET
TZOFFSETTO:+0100
TZOFFSETFROM:+0100
END:STANDARD
BEGIN:DAYLIGHT
DTSTART:20260329T030000
TZNAME:CEST
TZOFFSETTO:+0200
TZOFFSETFROM:+0100
END:DAYLIGHT
BEGIN:STANDARD
DTSTART:20261025T020000
TZNAME:CET
TZOFFSETTO:+0100
TZOFFSETFROM:+0200
END:STANDARD
END:VTIMEZONE
END:VCALENDAR
