BEGIN:VCALENDAR
PRODID:-//eluceo/ical//2.0/EN
VERSION:2.0
CALSCALE:GREGORIAN
BEGIN:VEVENT
UID:8d81ac0487b3b7a4e84b9ea2e046ea0d
DTSTAMP:20260420T110824Z
SUMMARY:IBO 2027 | "Bodenseekrainer"
DESCRIPTION:Tagesprogramm IBO 2027 - "Bodenseekrainer"\nOrt: Halle A6 | Bra
 ss-Bühne\n\nMesse Friedrichshafen GmbH\nNeue Messe 1 \n88046 Friedrichsha
 fen \nGermany \n\nTelefon +49 7541 708-0 \nFax +49 7541 708-110 \n\nGoogle
  Maps Route: \nhttp://goo.gl/maps/wXSL8
DTSTART;TZID=Europe/Berlin:20260322T163000
DTEND;TZID=Europe/Berlin:20260322T180000
LOCATION:Halle A6 | Brass-Bühne
ORGANIZER;CN=Messe Friedrichshafen:mailto:info@messe-fn.de
END:VEVENT
BEGIN:VTIMEZONE
TZID:Europe/Berlin
BEGIN:STANDARD
DTSTART:20260101T000000
TZNAME:CET
TZOFFSETTO:+0100
TZOFFSETFROM:+0100
END:STANDARD
BEGIN:DAYLIGHT
DTSTART:20260329T030000
TZNAME:CEST
TZOFFSETTO:+0200
TZOFFSETFROM:+0100
END:DAYLIGHT
BEGIN:STANDARD
DTSTART:20261025T020000
TZNAME:CET
TZOFFSETTO:+0100
TZOFFSETFROM:+0200
END:STANDARD
END:VTIMEZONE
END:VCALENDAR
