BEGIN:VCALENDAR
PRODID:-//eluceo/ical//2.0/EN
VERSION:2.0
CALSCALE:GREGORIAN
BEGIN:VEVENT
UID:e756e8f8b2ed87a7635e73522f1b2627
DTSTAMP:20260420T110744Z
SUMMARY:IBO 2027 | "Die Original Stehgreifler"
DESCRIPTION:Tagesprogramm IBO 2027 - "Die Original Stehgreifler"\nOrt: Hall
 e A6 | Brass-Bühne\n\nMesse Friedrichshafen GmbH\nNeue Messe 1 \n88046 Fr
 iedrichshafen \nGermany \n\nTelefon +49 7541 708-0 \nFax +49 7541 708-110 
 \n\nGoogle Maps Route: \nhttp://goo.gl/maps/wXSL8
DTSTART;TZID=Europe/Berlin:20260320T163000
DTEND;TZID=Europe/Berlin:20260320T180000
LOCATION:Halle A6 | Brass-Bühne
ORGANIZER;CN=Messe Friedrichshafen:mailto:info@messe-fn.de
END:VEVENT
BEGIN:VTIMEZONE
TZID:Europe/Berlin
BEGIN:STANDARD
DTSTART:20260101T000000
TZNAME:CET
TZOFFSETTO:+0100
TZOFFSETFROM:+0100
END:STANDARD
BEGIN:DAYLIGHT
DTSTART:20260329T030000
TZNAME:CEST
TZOFFSETTO:+0200
TZOFFSETFROM:+0100
END:DAYLIGHT
BEGIN:STANDARD
DTSTART:20261025T020000
TZNAME:CET
TZOFFSETTO:+0100
TZOFFSETFROM:+0200
END:STANDARD
END:VTIMEZONE
END:VCALENDAR
