BEGIN:VCALENDAR
PRODID:-//eluceo/ical//2.0/EN
VERSION:2.0
CALSCALE:GREGORIAN
BEGIN:VEVENT
UID:2a96d1c1a847aa4fb0c1015a28ae4e14
DTSTAMP:20260420T110743Z
SUMMARY:IBO 2027 | Fränkel Kochclub - Sascha Thummerer kocht
DESCRIPTION:Tagesprogramm IBO 2027 - Fränkel Kochclub - Sascha Thummerer k
 ocht\nOrt: Halle A5 | Kochshow-Bühne\n\nMesse Friedrichshafen GmbH\nNeue 
 Messe 1 \n88046 Friedrichshafen \nGermany \n\nTelefon +49 7541 708-0 \nFax
  +49 7541 708-110 \n\nGoogle Maps Route: \nhttp://goo.gl/maps/wXSL8
DTSTART;TZID=Europe/Berlin:20260319T141500
DTEND;TZID=Europe/Berlin:20260319T151500
LOCATION:Halle A5 | Kochshow-Bühne
ORGANIZER;CN=Messe Friedrichshafen:mailto:info@messe-fn.de
END:VEVENT
BEGIN:VTIMEZONE
TZID:Europe/Berlin
BEGIN:STANDARD
DTSTART:20260101T000000
TZNAME:CET
TZOFFSETTO:+0100
TZOFFSETFROM:+0100
END:STANDARD
BEGIN:DAYLIGHT
DTSTART:20260329T030000
TZNAME:CEST
TZOFFSETTO:+0200
TZOFFSETFROM:+0100
END:DAYLIGHT
BEGIN:STANDARD
DTSTART:20261025T020000
TZNAME:CET
TZOFFSETTO:+0100
TZOFFSETFROM:+0200
END:STANDARD
END:VTIMEZONE
END:VCALENDAR
