BEGIN:VCALENDAR
PRODID:-//eluceo/ical//2.0/EN
VERSION:2.0
CALSCALE:GREGORIAN
BEGIN:VEVENT
UID:a5fa814edd06feaaa9499032eb7b63bf
DTSTAMP:20260420T110534Z
SUMMARY:IBO 2027 | Alles Fußball!! Zielen\, kicken\, treffen: Billard\, Da
 rt und der längste Tischkicker am Bodensee!!
DESCRIPTION:Tagesprogramm IBO 2027 - Alles Fußball!! Zielen\, kicken\, tre
 ffen: Billard\, Dart und der längste Tischkicker am Bodensee!!\nOrt: Juge
 ndhalle NextGen | B4-403\n\nMesse Friedrichshafen GmbH\nNeue Messe 1 \n880
 46 Friedrichshafen \nGermany \n\nTelefon +49 7541 708-0 \nFax +49 7541 708
 -110 \n\nGoogle Maps Route: \nhttp://goo.gl/maps/wXSL8
DTSTART;TZID=Europe/Berlin:20260321T100000
DTEND;TZID=Europe/Berlin:20260321T180000
LOCATION:Jugendhalle NextGen | B4-403
ORGANIZER;CN=Messe Friedrichshafen:mailto:info@messe-fn.de
END:VEVENT
BEGIN:VTIMEZONE
TZID:Europe/Berlin
BEGIN:STANDARD
DTSTART:20260101T000000
TZNAME:CET
TZOFFSETTO:+0100
TZOFFSETFROM:+0100
END:STANDARD
BEGIN:DAYLIGHT
DTSTART:20260329T030000
TZNAME:CEST
TZOFFSETTO:+0200
TZOFFSETFROM:+0100
END:DAYLIGHT
BEGIN:STANDARD
DTSTART:20261025T020000
TZNAME:CET
TZOFFSETTO:+0100
TZOFFSETFROM:+0200
END:STANDARD
END:VTIMEZONE
END:VCALENDAR
